BEGIN:VCALENDAR
VERSION:2.0
PRODID:-//BizSource UG - ECPv6.15.20//NONSGML v1.0//EN
CALSCALE:GREGORIAN
METHOD:PUBLISH
X-ORIGINAL-URL:https://bizsourceug.com
X-WR-CALDESC:Events for BizSource UG
REFRESH-INTERVAL;VALUE=DURATION:PT1H
X-Robots-Tag:noindex
X-PUBLISHED-TTL:PT1H
BEGIN:VTIMEZONE
TZID:Europe/Belgrade
BEGIN:DAYLIGHT
TZOFFSETFROM:+0100
TZOFFSETTO:+0200
TZNAME:CEST
DTSTART:20250330T010000
END:DAYLIGHT
BEGIN:STANDARD
TZOFFSETFROM:+0200
TZOFFSETTO:+0100
TZNAME:CET
DTSTART:20251026T010000
END:STANDARD
BEGIN:DAYLIGHT
TZOFFSETFROM:+0100
TZOFFSETTO:+0200
TZNAME:CEST
DTSTART:20260329T010000
END:DAYLIGHT
BEGIN:STANDARD
TZOFFSETFROM:+0200
TZOFFSETTO:+0100
TZNAME:CET
DTSTART:20261025T010000
END:STANDARD
BEGIN:DAYLIGHT
TZOFFSETFROM:+0100
TZOFFSETTO:+0200
TZNAME:CEST
DTSTART:20270328T010000
END:DAYLIGHT
BEGIN:STANDARD
TZOFFSETFROM:+0200
TZOFFSETTO:+0100
TZNAME:CET
DTSTART:20271031T010000
END:STANDARD
END:VTIMEZONE
BEGIN:VEVENT
DTSTART;TZID=Europe/Belgrade:20260210T160000
DTEND;TZID=Europe/Belgrade:20260210T180000
DTSTAMP:20260422T154119
CREATED:20260203T110203Z
LAST-MODIFIED:20260211T113836Z
UID:10000052-1770739200-1770746400@bizsourceug.com
SUMMARY:BizSource UG African February Meetup 2026
DESCRIPTION:BizSource User Group Africa is a group that gathers professionals who focus on Microsoft Business Applications. This group is an open type\, so any subscription is not included\, and everybody can become a member free of charge. Everybody is welcome whether they are professionals or just users for whom this is a hobby.\n\n___________________________________\nSESSIONS: \nSpeaker: Berny During\nSession 1: 2026 and the year ahead for ERP and AI\nDescription: A look at the year ahead for the ERP industry… What to expect\, what industry analysts are predicting\, what trends do we see emerging\, the effect of AI on the ERP industry\, and even taking a look at the question that some industry analysts are asking… Is classical ERP dead? \nSpeaker: Miljan Milosavljevic\nSession 2: Subscription Billing for Microsoft Dynamics 365 Business Central\nDescription: A practical walkthrough of Subscription Billing in Business Central: setting up subscriptions\, managing contract changes\, and generating recurring invoices \n___________________________________ \n\n\nAGENDA \n1. 16:00 – Gathering.\n2. 16:30 – Introduction by the leaders of the BizSource User Group.\n3. 16:45 – Session to be advised\n4. 18:00 – Free time for networking and socializing after the presentation. There are several other Microsoft User Groups if you wish to join any sessions from 18:00 – 20:00. \n\n\n  \n  \n  \n  \n  \n  \n\n\n  \n 
URL:https://bizsourceug.com/event/bizsource-african-february-meetup/
LOCATION:Microsoft South Africa\, 3012 William Nicol Drive\, Bryanston\, South Africa
CATEGORIES:Africa Completed
ATTACH;FMTTYPE=image/png:https://bizsourceug.com/wp-content/uploads/2026/02/BizSource-UG-Africa-February-Meetup-2026.png
END:VEVENT
BEGIN:VEVENT
DTSTART;TZID=Europe/Belgrade:20260223T173000
DTEND;TZID=Europe/Belgrade:20260223T200000
DTSTAMP:20260422T154119
CREATED:20260213T104123Z
LAST-MODIFIED:20260224T084328Z
UID:10000054-1771867800-1771876800@bizsourceug.com
SUMMARY:BizSource UG Croatia February Meetup 2026
DESCRIPTION:Za novi meetup DUG BizSource Croatia user grupe očekuje se okupljanje članova i dalje širenje znanja u Microsoftovim tehnologijama koje mnogi svakodnevno koriste u poslu. Težimo ka tome da DUG BizSource Croatia pruži mogućnost stjecanja novih znanja kao i širenja svojih sa ljudima koji se bave Dynamics 365 i Power Platform aplikacijama. Nadamo se da će naša user grupa prije svega postati mjesto dobre i pozitivne energije i da ćete u njoj steći nova poslovna poznanstava i razmijeniti dosadašnje poslovno iskustvo i znanje.\n\n____________________________________\nSESIJA: \nPredavač: Nebojša Višić\nTema: Microsoft Dynamics Business Central + Microsoft Foundry: Practical AI Models and Agents for Real ERP Work\nOpis: Ova sesija je praktičan vodič za izgradnju privatne\, upravljive AI arhitekture unutar Microsoft Dynamics 365 Business Central\, koristeći Microsoft Foundry\, uz potpunu enterprise kontrolu\, bez oslanjanja na nekontrolisane third-party modele.\nProći ćemo kompletan put:\n• izbor i evaluaciju AI modela\n• sigurnu inferenciju kroz AL i AOAI\n• orkestraciju alata i pristupa podacima\n• upravljanje troškovima i skaliranjem\nKroz kratke live demonstracije (AI asistencija\, validacija podataka\, pametni prijedlozi unutar BC tokova)\, pokazujemo stvarne obrasce koji se koriste u produkciji: request/response\, throttling\, fallback strategije\, telemetriju i sigurnosne prakse.\nPoseban fokus je na evoluciji rješenja\, kako preći put od jednostavne AI asistencije do punih agent-based workflow-a\, a da pritom ostanete unutar Microsoft AI ekosistema.\nSa sesije odlazite sa referentnim obrascima i check-listom za izgradnju vlastite Foundry-powered AI platforme. \n!\n____________________________________ \n\n\nAGENDA \n1. 17:15 – Okupljanje.\n2. 17:30 – Uvod od strane lidera BizSource user grupe.\n3. 17:45 – Sesija.\n4. 18:45 – Slobodno vreme za druženje nakon predavanja. \n\n\n 
URL:https://bizsourceug.com/event/bizsource-croatia-event-veljaca/
LOCATION:Business Club 5\, Ul. Roberta Frangeša Mihanovića 9\, Zagreb\, Zagreb\, Zagreb\, Croatia (Local Name: Hrvatska)
CATEGORIES:Croatia Completed
ATTACH;FMTTYPE=image/png:https://bizsourceug.com/wp-content/uploads/2026/02/BizSource-UG-Croatia-February-2026-Meetup.png
END:VEVENT
BEGIN:VEVENT
DTSTART;TZID=Europe/Belgrade:20260226T180000
DTEND;TZID=Europe/Belgrade:20260226T200000
DTSTAMP:20260422T154119
CREATED:20260212T123521Z
LAST-MODIFIED:20260302T154013Z
UID:10000053-1772128800-1772136000@bizsourceug.com
SUMMARY:BizSource UG Serbia February Meetup 2026
DESCRIPTION:BizSource User Group Serbia je korisnička grupa koja za cilj ima da okupi stručnjake i sve osobe koje se bave Microsoft Business aplikacijama. Grupa ja otvorenog tip i članstvo je besplatno. Svi koji se bave Microsoft Business aplikacijama su dobrodošli\, bilo da se bave profesionalno ili iz hobija.\n\n____________________________________\nSESIJA \nPredavač: Slavko Vujnović \nTema: Microsoft Fabric for Data Analysts \nOpis: Microsoft Fabric je savremena i sveobuhvatna SaaS platforma koja objedinjuje analitiku\, skladištenje i obradu podataka na jednom mestu. Njena centralna komponenta\, OneLake\, omogućava čuvanje strukturiranih\, polustrukturiranih i nestrukturiranih podataka\, kao i tabela\, a Fabric omogućava rad sa artefaktima kao što su: Lakehouse\, Warehouse\, Semantic Model\, SQL database\, KQL database itd. Podaci se čuvaju u Delta Parquet formatu koji je prilagođen brzom pretraživanju\, te je pogodan za analize. Data Factory\, kroz Dataflow Gen1\, Dataflow Gen2 i Pipelines omogućava uvoz i transformaciju podataka\, trenutno ili u skladu sa zadatim kriterijumima. Sadrži i module Data Science\, kao i Real-Time Intelligence\, jako je dobro integrisan sa drugim Microsoft servisima a posebno sa Power BI izveštajnom platformom. Cilj predavanja je da pokaže\, kroz praktične primere\, kako se koristi Microsoft Fabric iz ugla analitičara podataka. \n____________________________________ \n\n\nAGENDA \n1. 18:00 – Okupljanje.\n2. 18:30 – Uvod od strane lidera BizSource user grupe.\n3. 18:45 – Predavanje.\n4. 20:00 – Slobodno vreme za druženje nakon predavanja. \n\n\n  \n 
URL:https://bizsourceug.com/event/bizsource-ug-serbia-february-meetup-2026/
CATEGORIES:Serbia Completed
ATTACH;FMTTYPE=image/png:https://bizsourceug.com/wp-content/uploads/2026/02/Najava-Meetup.png
END:VEVENT
END:VCALENDAR