BEGIN:VCALENDAR
VERSION:2.0
PRODID:-//BizSource UG - ECPv6.15.20//NONSGML v1.0//EN
CALSCALE:GREGORIAN
METHOD:PUBLISH
X-ORIGINAL-URL:https://bizsourceug.com
X-WR-CALDESC:Events for BizSource UG
REFRESH-INTERVAL;VALUE=DURATION:PT1H
X-Robots-Tag:noindex
X-PUBLISHED-TTL:PT1H
BEGIN:VTIMEZONE
TZID:Europe/Belgrade
BEGIN:DAYLIGHT
TZOFFSETFROM:+0100
TZOFFSETTO:+0200
TZNAME:CEST
DTSTART:20240331T010000
END:DAYLIGHT
BEGIN:STANDARD
TZOFFSETFROM:+0200
TZOFFSETTO:+0100
TZNAME:CET
DTSTART:20241027T010000
END:STANDARD
BEGIN:DAYLIGHT
TZOFFSETFROM:+0100
TZOFFSETTO:+0200
TZNAME:CEST
DTSTART:20250330T010000
END:DAYLIGHT
BEGIN:STANDARD
TZOFFSETFROM:+0200
TZOFFSETTO:+0100
TZNAME:CET
DTSTART:20251026T010000
END:STANDARD
BEGIN:DAYLIGHT
TZOFFSETFROM:+0100
TZOFFSETTO:+0200
TZNAME:CEST
DTSTART:20260329T010000
END:DAYLIGHT
BEGIN:STANDARD
TZOFFSETFROM:+0200
TZOFFSETTO:+0100
TZNAME:CET
DTSTART:20261025T010000
END:STANDARD
END:VTIMEZONE
BEGIN:VEVENT
DTSTART;TZID=Europe/Belgrade:20251211T180000
DTEND;TZID=Europe/Belgrade:20251211T200000
DTSTAMP:20260423T223354
CREATED:20251128T102608Z
LAST-MODIFIED:20251215T094347Z
UID:10000007-1765476000-1765483200@bizsourceug.com
SUMMARY:BizSource UG Serbia December Meetup 2025
DESCRIPTION:Za meetup BizSource user grupe se očekuje okupljanje članova i dalje širenje znanja u Microsoftovim tehnologijama koje mnogi svakodnevno koriste na poslu. Težićemo ka tome da BizSource pruži mogućnost sticanja novih znanja kao i širenja svojih sa ljudima koji se bave Dynamics 365 i Power Platform aplikacijama. Nadamo se da će naša user grupa pre svega postati mesto dobre i pozitivne energije i da ćete u njoj steći nova poslovna poznanstava i razmeniti dosadašnje poslovno iskustvo i znanje. \n————————————————————————————————– \nSESIJA \nPredavač: Miljan Milosavljevic \nTema: Subscription Billing \nOpis: Subscription Billing u Business Central-u omogućava fakturisanje ugovorenih usluga na ponavljajućoj osnovi uz fleksibilne modele naplate\, upravljanje cenama\, obnovama i periodima naplate. Na sesiji prolazimo kroz ključne koncepte: od kreiranja ugovora i redova pretplate\, preko predloga naplate\, do kreiranja i knjiženja faktura/odobrenja. Obradićemo i šablone\, rasporede naplate\, usage-based scenarije i najbolje prakse za uvođenje u produkciju. Učesnici će dobiti praktične smernice kako da ubrzaju ponavljajuće fakturisanje i obezbede transparentnost procesa — uz kratke demo korake i referencu na zvaničnu dokumentaciju \n————————————————————————————————— \nAGENDA \n1. 18:00 – Okupljanje. \n2. 18:30 – Uvod od strane lidera BizSource user grupe. \n3. 18:45 – Predavanje. \n4. 20:00 – Slobodno vreme za druženje nakon predavanja. \n————————————————————————————————— \nVidimo se 11.12.2025. u 18:00h u Microsoft\, Beograd – Ušće Tower 2/ 11. Sprat! \n  \n 
URL:https://bizsourceug.com/event/bizsource-ug-serbia-december-meetup-2025/
LOCATION:Microsoft Serbia\, Bulevar Mihajla Pupina 4\, UŠĆE Tower Two\, Belgrade\, 11070\, Serbia
CATEGORIES:Serbia Completed
ATTACH;FMTTYPE=image/png:https://bizsourceug.com/wp-content/uploads/2025/11/NajavaMeetup.png
ORGANIZER;CN="Nikola Pancic":MAILTO:nikola.pancic@bizsourceug.com
END:VEVENT
BEGIN:VEVENT
DTSTART;TZID=Europe/Belgrade:20251113T090000
DTEND;TZID=Europe/Belgrade:20251113T190000
DTSTAMP:20260423T223354
CREATED:20250920T161722Z
LAST-MODIFIED:20251012T184903Z
UID:10000006-1763024400-1763060400@bizsourceug.com
SUMMARY:BizSource UG Serbia Event 2025
DESCRIPTION:BizSource UG Serbia Event 2025
URL:https://bizsourceug.com/event/bizsource-ug-serbia-event-2025/
LOCATION:Microsoft Serbia\, Bulevar Mihajla Pupina 4\, UŠĆE Tower Two\, Belgrade\, 11070\, Serbia
CATEGORIES:Event Serbia
END:VEVENT
BEGIN:VEVENT
DTSTART;TZID=Europe/Belgrade:20251009T180000
DTEND;TZID=Europe/Belgrade:20251009T200000
DTSTAMP:20260423T223354
CREATED:20250914T142328Z
LAST-MODIFIED:20251015T122425Z
UID:10000002-1760032800-1760040000@bizsourceug.com
SUMMARY:BizSource UG Serbia October Meetup 2025
DESCRIPTION:Za meetup BizSource user grupe se očekuje okupljanje članova i dalje širenje znanja u Microsoftovim tehnologijama koje mnogi svakodnevno koriste na poslu. Težićemo ka tome da BizSource pruži mogućnost sticanja novih znanja kao i širenja svojih sa ljudima koji se bave Dynamics 365 i Power Platform aplikacijama. Nadamo se da će naša user grupa pre svega postati mesto dobre i pozitivne energije i da ćete u njoj steći nova poslovna poznanstava i razmeniti dosadašnje poslovno iskustvo i znanje.\n—————————————————————————————————-\nPREDAVANJE \n\n\nPredavači: Berny During \n\n\nTema: Mastering Business Central’s Page Scripting Tool! \n\n\nOpis: Dive into the revolutionary Page Scripting Tool—a groundbreaking feature introduced in Microsoft Dynamics 365 Business Central version 24—in our dynamic session “Mastering Business Central’s Page Scripting Tool.” This course provides a comprehensive exploration of the tool\, covering everything from its inception to its practical application\, equipping participants with in-depth insights into its capabilities\, limitations\, and integration with Acceptance Testing. \n\n\n\n—————————————————————————————————\nAGENDA \n1. 18:00 – Okupljanje.\n2. 18:30 – Uvod od strane lidera BizSource user grupe.\n3. 18:45 – Predavanje.\n4. 20:00 – Slobodno vreme za druženje nakon predavanja.\n—————————————————————————————————\nVidimo se 09.10.2025 u 18:00h u Microsoft Usće Tower 2!
URL:https://bizsourceug.com/event/bizsource-ug-serbia-october-meetup-2025/
LOCATION:Microsoft Serbia\, Bulevar Mihajla Pupina 4\, UŠĆE Tower Two\, Belgrade\, 11070\, Serbia
CATEGORIES:Serbia Completed
ATTACH;FMTTYPE=image/png:https://bizsourceug.com/wp-content/uploads/2025/09/Meetup-Announcement-600-x-338-px.png
END:VEVENT
BEGIN:VEVENT
DTSTART;TZID=Europe/Belgrade:20250619T180000
DTEND;TZID=Europe/Belgrade:20250619T200000
DTSTAMP:20260423T223354
CREATED:20250916T135824Z
LAST-MODIFIED:20251009T093026Z
UID:10000003-1750356000-1750363200@bizsourceug.com
SUMMARY:BizSource UG Serbia June Meetup 2025
DESCRIPTION:Za meetup BizSource user grupe se očekuje okupljanje članova i dalje širenje znanja u Microsoftovim tehnologijama koje mnogi svakodnevno koriste na poslu. Težićemo ka tome da BizSource pruži mogućnost sticanja novih znanja kao i širenja svojih sa ljudima koji se bave Dynamics 365 i Power Platform aplikacijama. Nadamo se da će naša user grupa pre svega postati mesto dobre i pozitivne energije i da ćete u njoj steći nova poslovna poznanstava i razmeniti dosadašnje poslovno iskustvo i znanje.\n————————————————————————————————–\nSesija \n\nPredavači: Lazar Magovcevic i Miodrag Simeunovic\nTema: Copilot use cases for citizens and professionals\nOpis: Prezentacija razlicitih copilot-a prvi deo predavanja ce biti usmeren na citizen development kroz koji cemo proci primenu samog alata u okviru power platform-e a drugi deo ce biti vise usmeren na tehnicki deo i sam professional development u Visual Studio-u i VS code-u kao alat koji pomaze inzenjerima u razumevanju postojeceg koda kao i smernice u razvoju novog.\n\n—————————————————————————————————\nAgenda \n\n18:00 – Okupljanje i registracija.\n18:30 – Uvod od strane lidera BizSource user grupe.\n18:45 – Predavanje.\n20:00 – Slobodno vreme za druženje nakon predavanja.\n\n————————————————————————————————— \nVidimo se 19.06.2025 u 18:00h u Microsoft Usće Tower 2!
URL:https://bizsourceug.com/event/bizsource-ug-serbia-june-meetup-2025/
CATEGORIES:Serbia Completed
ATTACH;FMTTYPE=image/png:https://bizsourceug.com/wp-content/uploads/2025/09/Najava-Meetup.png
END:VEVENT
BEGIN:VEVENT
DTSTART;TZID=Europe/Belgrade:20250522T180000
DTEND;TZID=Europe/Belgrade:20250522T200000
DTSTAMP:20260423T223354
CREATED:20250916T140111Z
LAST-MODIFIED:20251009T092931Z
UID:10000004-1747936800-1747944000@bizsourceug.com
SUMMARY:BizSource UG Serbia May Meetup 2025
DESCRIPTION:Za meetup BizSource user grupe se očekuje okupljanje članova i dalje širenje znanja u Microsoftovim tehnologijama koje mnogi svakodnevno koriste na poslu. Težićemo ka tome da BizSource pruži mogućnost sticanja novih znanja kao i širenja svojih sa ljudima koji se bave Dynamics 365 i Power Platform aplikacijama. Nadamo se da će naša user grupa pre svega postati mesto dobre i pozitivne energije i da ćete u njoj steći nova poslovna poznanstava i razmeniti dosadašnje poslovno iskustvo i znanje.\n—————————————————————————————————-\nPREDAVANJE \nPredavač: Radovan Miodragovć\nTema: Integration Patterns in Dynamics 365: Best Practices and Real-World Scenarios\nOpis: This session explores the most effective integration patterns in Dynamics 365 Finance and Operations\, including OData\, custom services\, batch APIs\, Business Events\, and Dual-write. Learn how to choose the right approach based on performance\, reliability\, and data volume\, with practical examples from real-world implementations. Ideal for architects\, developers\, and functional consultants looking to design scalable and maintainable integrations.\n—————————————————————————————————\nAGENDA \n1. 18:00 – Okupljanje.\n2. 18:30 – Uvod od strane lidera BizSource user grupe.\n3. 18:45 – Predavanje.\n4. 20:00 – Slobodno vreme za druženje nakon predavanja.\n—————————————————————————————————\nVidimo se 22.05.2025 u 18:00h u Microsoft Usće Tower 2!
URL:https://bizsourceug.com/event/bizsource-ug-serbia-may-meetup-2025/
CATEGORIES:Serbia Completed
ATTACH;FMTTYPE=image/png:https://bizsourceug.com/wp-content/uploads/2025/09/Meetup-Announcement.png
END:VEVENT
BEGIN:VEVENT
DTSTART;TZID=Europe/Belgrade:20250424T180000
DTEND;TZID=Europe/Belgrade:20250424T200000
DTSTAMP:20260423T223354
CREATED:20250916T140500Z
LAST-MODIFIED:20251009T092836Z
UID:10000005-1745517600-1745524800@bizsourceug.com
SUMMARY:BizSource UG Serbia April Meetup 2025
DESCRIPTION:Za meetup BizSource user grupe se očekuje okupljanje članova i dalje širenje znanja u Microsoftovim tehnologijama koje mnogi svakodnevno koriste na poslu. Težićemo ka tome da BizSource pruži mogućnost sticanja novih znanja kao i širenja svojih sa ljudima koji se bave Dynamics 365 i Power Platform aplikacijama. Nadamo se da će naša user grupa pre svega postati mesto dobre i pozitivne energije i da ćete u njoj steći nova poslovna poznanstava i razmeniti dosadašnje poslovno iskustvo i znanje.\n————————————————————————————————–\nSesija: \nPredavač: Bozidar Radosavljevic\nTema: Moć ponovne upotrebe u Power Apps-u “Power Apps Canvas komponente i User definied funkcije\nOpis: Na ovom predavanju predstavićemo kako Power Apps Canvas komponente i korisnički definisane (user-defined) funkcije omogućavaju efikasniji razvoj\, bolju organizaciju koda i lakše održavanje aplikacija. Naučićete kako da napravite sopstvene komponente koje se mogu koristiti širom aplikacija\, kako da ih organizujete\, kao i kako da kreirate funkcije koje zamenjuju ponavljajući kod. Praktični primeri i uživo demonstracije pokazaće vam kako sve to funkcioniše u stvarnim aplikacijama.\n—————————————————————————————————\nAgenda: \n1. 18:00 – Okupljanje.\n2. 18:30 – Uvod od strane lidera BizSource user grupe.\n3. 18:45 – Predavanje.\n4. 20:00 – Slobodno vreme za druženje nakon predavanja.\n————————————————————————————————— \nVidimo se 24.04.2025 u 18:00h u Microsoft Usće Tower 2!
URL:https://bizsourceug.com/event/bizsource-ug-serbia-april-meetup-2025/
CATEGORIES:Serbia Completed
ATTACH;FMTTYPE=image/png:https://bizsourceug.com/wp-content/uploads/2025/09/Meetup-Najava.png
END:VEVENT
END:VCALENDAR