BEGIN:VCALENDAR
VERSION:2.0
PRODID:-//BizSource UG - ECPv6.15.20//NONSGML v1.0//EN
CALSCALE:GREGORIAN
METHOD:PUBLISH
X-ORIGINAL-URL:https://bizsourceug.com
X-WR-CALDESC:Events for BizSource UG
REFRESH-INTERVAL;VALUE=DURATION:PT1H
X-Robots-Tag:noindex
X-PUBLISHED-TTL:PT1H
BEGIN:VTIMEZONE
TZID:Europe/Belgrade
BEGIN:DAYLIGHT
TZOFFSETFROM:+0100
TZOFFSETTO:+0200
TZNAME:CEST
DTSTART:20250330T010000
END:DAYLIGHT
BEGIN:STANDARD
TZOFFSETFROM:+0200
TZOFFSETTO:+0100
TZNAME:CET
DTSTART:20251026T010000
END:STANDARD
BEGIN:DAYLIGHT
TZOFFSETFROM:+0100
TZOFFSETTO:+0200
TZNAME:CEST
DTSTART:20260329T010000
END:DAYLIGHT
BEGIN:STANDARD
TZOFFSETFROM:+0200
TZOFFSETTO:+0100
TZNAME:CET
DTSTART:20261025T010000
END:STANDARD
BEGIN:DAYLIGHT
TZOFFSETFROM:+0100
TZOFFSETTO:+0200
TZNAME:CEST
DTSTART:20270328T010000
END:DAYLIGHT
BEGIN:STANDARD
TZOFFSETFROM:+0200
TZOFFSETTO:+0100
TZNAME:CET
DTSTART:20271031T010000
END:STANDARD
END:VTIMEZONE
BEGIN:VEVENT
DTSTART;TZID=Europe/Belgrade:20260129T173000
DTEND;TZID=Europe/Belgrade:20260129T210000
DTSTAMP:20260423T174221
CREATED:20260116T085125Z
LAST-MODIFIED:20260203T105749Z
UID:10000048-1769707800-1769720400@bizsourceug.com
SUMMARY:BizSource Croatia Event - 2. rođendan
DESCRIPTION:Za drugi rođendan DUG BizSource Croatia user grupe očekuje se okupljanje članova i dalje širenje znanja u Microsoftovim tehnologijama koje mnogi svakodnevno koriste u poslu. Težimo ka tome da DUG BizSource Croatia pruži mogućnost stjecanja novih znanja kao i širenja svojih sa ljudima koji se bave Dynamics 365 i Power Platform aplikacijama. Nadamo se da će naša user grupa prije svega postati mjesto dobre i pozitivne energije i da ćete u njoj steći nova poslovna poznanstava i razmijeniti dosadašnje poslovno iskustvo i znanje. \n\n\n____________________________________\nSESIJA: \nPredavač: Uskoro!\nTema: Uskoro!\nOpis: Uskoro!\n____________________________________ \n\n\nAGENDA: \n1. 17:15 – Okupljanje.\n2. 17:30 – Uvod od strane lidera BizSource user grupe.\n3. 17:45 – Sesija.\n4. 18:30 – Slobodno vreme za druženje nakon predavanja. \n\n\n  \nVidimo se 29/01/2026 od 17:30h CET u Microsoft Hrvatska! \n  \n  \n  \n 
URL:https://bizsourceug.com/event/bizsource-croatia-event-2-rodendan/
LOCATION:Business Club 5\, Ul. Roberta Frangeša Mihanovića 9\, Zagreb\, Zagreb\, Zagreb\, Croatia (Local Name: Hrvatska)
CATEGORIES:Croatia Completed
ATTACH;FMTTYPE=image/png:https://bizsourceug.com/wp-content/uploads/2026/01/BizSource-Croatia-January-meetup.png
END:VEVENT
END:VCALENDAR