BEGIN:VCALENDAR
VERSION:2.0
PRODID:-//BizSource UG - ECPv6.15.20//NONSGML v1.0//EN
CALSCALE:GREGORIAN
METHOD:PUBLISH
X-ORIGINAL-URL:https://bizsourceug.com
X-WR-CALDESC:Events for BizSource UG
REFRESH-INTERVAL;VALUE=DURATION:PT1H
X-Robots-Tag:noindex
X-PUBLISHED-TTL:PT1H
BEGIN:VTIMEZONE
TZID:Europe/Belgrade
BEGIN:DAYLIGHT
TZOFFSETFROM:+0100
TZOFFSETTO:+0200
TZNAME:CEST
DTSTART:20250330T010000
END:DAYLIGHT
BEGIN:STANDARD
TZOFFSETFROM:+0200
TZOFFSETTO:+0100
TZNAME:CET
DTSTART:20251026T010000
END:STANDARD
BEGIN:DAYLIGHT
TZOFFSETFROM:+0100
TZOFFSETTO:+0200
TZNAME:CEST
DTSTART:20260329T010000
END:DAYLIGHT
BEGIN:STANDARD
TZOFFSETFROM:+0200
TZOFFSETTO:+0100
TZNAME:CET
DTSTART:20261025T010000
END:STANDARD
BEGIN:DAYLIGHT
TZOFFSETFROM:+0100
TZOFFSETTO:+0200
TZNAME:CEST
DTSTART:20270328T010000
END:DAYLIGHT
BEGIN:STANDARD
TZOFFSETFROM:+0200
TZOFFSETTO:+0100
TZNAME:CET
DTSTART:20271031T010000
END:STANDARD
END:VTIMEZONE
BEGIN:VEVENT
DTSTART;TZID=Europe/Belgrade:20260122T180000
DTEND;TZID=Europe/Belgrade:20260122T200000
DTSTAMP:20260424T032337
CREATED:20260112T111702Z
LAST-MODIFIED:20260123T164721Z
UID:10000045-1769104800-1769112000@bizsourceug.com
SUMMARY:BizSource UG Serbia January Meetup 2026
DESCRIPTION:BizSource User Group Serbia je korisnička grupa koja za cilj ima da okupi stručnjake i sve osobe koje se bave Microsoft Business aplikacijama. Grupa ja otvorenog tip i članstvo je besplatno. Svi koji se bave Microsoft Business aplikacijama su dobrodošli\, bilo da se bave profesionalno ili iz hobija.\n____________________________________\nSESIJA: \nPredavači: Nikola Pančić i Marko Totović \nTema: Power Platform in the AI Era \nOpis: Power Platform in the AI Era is not about the future — it is already happening today. In this session\, Nikola Pančić and Marko Totović will show how AI is becoming a natural part of Power Platform solutions\, from Power Apps and Power Automate to Copilot Studio and Dataverse. We will talk about real scenarios\, what actually works in practice\, where AI really adds value\, and where expectations are still higher than reality. The session is focused on understanding how makers\, consultants\, and developers can adapt their solutions and mindset in the AI-driven world. \n____________________________________ \n\n\nAGENDA \n1. 18:00 – Okupljanje.\n2. 18:30 – Uvod od strane lidera BizSource user grupe.\n3. 18:45 – Predavanje.\n4. 20:00 – Slobodno vreme za druženje nakon predavanja. \n\n\n  \n  \n  \n  \n 
URL:https://bizsourceug.com/event/bizsource-ug-serbia-january-meetup-2026/
LOCATION:Microsoft Serbia\, Bulevar Mihajla Pupina 4\, UŠĆE Tower Two\, Belgrade\, 11070\, Serbia
CATEGORIES:Serbia Completed
ATTACH;FMTTYPE=image/png:https://bizsourceug.com/wp-content/uploads/2026/01/January-2026-Meetup-Announcement-600-x-338-px.png
END:VEVENT
END:VCALENDAR